BEGIN:VCALENDAR
VERSION:2.0
PRODID:-//LWV Detroit - ECPv6.15.16//NONSGML v1.0//EN
CALSCALE:GREGORIAN
METHOD:PUBLISH
X-ORIGINAL-URL:https://lwvdetroit.org
X-WR-CALDESC:Events for LWV Detroit
REFRESH-INTERVAL;VALUE=DURATION:PT1H
X-Robots-Tag:noindex
X-PUBLISHED-TTL:PT1H
BEGIN:VTIMEZONE
TZID:UTC
BEGIN:STANDARD
TZOFFSETFROM:+0000
TZOFFSETTO:+0000
TZNAME:UTC
DTSTART:20240101T000000
END:STANDARD
END:VTIMEZONE
BEGIN:VEVENT
DTSTART;TZID=UTC:20250405T130000
DTEND;TZID=UTC:20250405T160000
DTSTAMP:20260424T114753
CREATED:20250403T014358Z
LAST-MODIFIED:20250412T185147Z
UID:12318-1743858000-1743868800@lwvdetroit.org
SUMMARY:Hands Off! Rally
DESCRIPTION:On Saturday\, April 5\, the LWV is joining national partners for Hands Off! \nThis is a mass mobilization effort\, with people taking to the streets nationwide – in over 600 cities/towns – to fight back with a clear message: Hands Off our democracy! Hands Off our voting rights! \nFor all the information you need to know\, including where to meet\, the length of the walk\, places to park\, etc.\, you must sign up. Members or Leagues participating in a rally should refer to LWVUS’ rally & protest safety guidance\, here. \nParticipate in this rally to support our democracy and to carry signs that focus on issues\, not individuals. And\, if you can\, send in the pictures you take of the event to: lwvdetroit@gmail.com \nSign up link: \nhttps://www.mobilize.us/handsoff/
URL:https://lwvdetroit.org/event/hands-off-rally/
LOCATION:Detroit Institute of Arts\, 5200 Woodward Ave\, Detroit\, MI\, 48202\, United States
CATEGORIES:Volunteering,Voter Education
END:VEVENT
BEGIN:VEVENT
DTSTART;TZID=UTC:20250408T180000
DTEND;TZID=UTC:20250408T193000
DTSTAMP:20260424T114753
CREATED:20250330T232551Z
LAST-MODIFIED:20250331T003009Z
UID:12309-1744135200-1744140600@lwvdetroit.org
SUMMARY:Anatomy of a Lame Duck
DESCRIPTION:League of Women Voters Detroit and the Detroit Public Library are partnering in talks promoting voter education and tools for action. \nErika Rosebrook\, of the MSUE Center for Local Government Finance and Policy\, will guide us through what happened and what didn’t happen during the Michigan Legislature’s lame duck session\, and what is happening in the Legislature now. \nTo reserve a spot\, visit the event page: \nhttps://www.michigan.gov/sos/0\,4670\,7-127-1633_48760_74451—\,00.html \nREMEMBER: A recording will be posted on the Detroit Public Library YouTube channel and on lwvdetroit.org a few weeks after the program.
URL:https://lwvdetroit.org/event/anatomy-of-a-lame-duck/
LOCATION:Eastside Community Network\, 4401 Conner Street\, Detroit\, MI\, 48215\, United States
CATEGORIES:Volunteering,Voting
END:VEVENT
BEGIN:VEVENT
DTSTART;TZID=UTC:20250419T100000
DTEND;TZID=UTC:20250419T120000
DTSTAMP:20260424T114753
CREATED:20250331T002225Z
LAST-MODIFIED:20250505T224130Z
UID:12313-1745056800-1745064000@lwvdetroit.org
SUMMARY:April Detroit League Meeting
DESCRIPTION:The League of Women Voters Detroit is meeting soon. \nJoin us at our Membership meeting. You can attend in person at the U of M Detroit Center or virtually using the Zoom link. \nJoin us live on Zoom: https://us02web.zoom.us/j/4377712506 \nREMEMBER: The Detroit League meets both virtually and in person for meetings from April to December.
URL:https://lwvdetroit.org/event/lwv-detroit-league-meeting/
LOCATION:Main Detroit Public Library\, 5201 Woodward Ave\, Detroit\, MI\, 48202\, United States
CATEGORIES:Membership,Volunteering,Voting
ATTACH;FMTTYPE=image/png:https://lwvdetroit.org/wp-content/uploads/2025/03/APR.png
END:VEVENT
END:VCALENDAR