BEGIN:VCALENDAR
VERSION:2.0
PRODID:-//LWV Detroit - ECPv6.15.16//NONSGML v1.0//EN
CALSCALE:GREGORIAN
METHOD:PUBLISH
X-WR-CALNAME:LWV Detroit
X-ORIGINAL-URL:https://lwvdetroit.org
X-WR-CALDESC:Events for LWV Detroit
REFRESH-INTERVAL;VALUE=DURATION:PT1H
X-Robots-Tag:noindex
X-PUBLISHED-TTL:PT1H
BEGIN:VTIMEZONE
TZID:America/Detroit
BEGIN:DAYLIGHT
TZOFFSETFROM:-0500
TZOFFSETTO:-0400
TZNAME:EDT
DTSTART:20250309T070000
END:DAYLIGHT
BEGIN:STANDARD
TZOFFSETFROM:-0400
TZOFFSETTO:-0500
TZNAME:EST
DTSTART:20251102T060000
END:STANDARD
BEGIN:DAYLIGHT
TZOFFSETFROM:-0500
TZOFFSETTO:-0400
TZNAME:EDT
DTSTART:20260308T070000
END:DAYLIGHT
BEGIN:STANDARD
TZOFFSETFROM:-0400
TZOFFSETTO:-0500
TZNAME:EST
DTSTART:20261101T060000
END:STANDARD
BEGIN:DAYLIGHT
TZOFFSETFROM:-0500
TZOFFSETTO:-0400
TZNAME:EDT
DTSTART:20270314T070000
END:DAYLIGHT
BEGIN:STANDARD
TZOFFSETFROM:-0400
TZOFFSETTO:-0500
TZNAME:EST
DTSTART:20271107T060000
END:STANDARD
END:VTIMEZONE
BEGIN:VTIMEZONE
TZID:America/New_York
BEGIN:DAYLIGHT
TZOFFSETFROM:-0500
TZOFFSETTO:-0400
TZNAME:EDT
DTSTART:20250309T070000
END:DAYLIGHT
BEGIN:STANDARD
TZOFFSETFROM:-0400
TZOFFSETTO:-0500
TZNAME:EST
DTSTART:20251102T060000
END:STANDARD
BEGIN:DAYLIGHT
TZOFFSETFROM:-0500
TZOFFSETTO:-0400
TZNAME:EDT
DTSTART:20260308T070000
END:DAYLIGHT
BEGIN:STANDARD
TZOFFSETFROM:-0400
TZOFFSETTO:-0500
TZNAME:EST
DTSTART:20261101T060000
END:STANDARD
BEGIN:DAYLIGHT
TZOFFSETFROM:-0500
TZOFFSETTO:-0400
TZNAME:EDT
DTSTART:20270314T070000
END:DAYLIGHT
BEGIN:STANDARD
TZOFFSETFROM:-0400
TZOFFSETTO:-0500
TZNAME:EST
DTSTART:20271107T060000
END:STANDARD
END:VTIMEZONE
BEGIN:VEVENT
DTSTART;TZID=America/Detroit:20260312T180000
DTEND;TZID=America/Detroit:20260312T210000
DTSTAMP:20260419T092346
CREATED:20260305T170041Z
LAST-MODIFIED:20260306T131103Z
UID:13530-1773338400-1773349200@lwvdetroit.org
SUMMARY:CitizenDetroit Facilitator Training
DESCRIPTION:We need volunteers on the day of the Dinner and Dialog Event\, scheduled on Thursday\, March 19th\, and on the day before the event to help prepare materials. We will have other volunteer opportunities during the event. Facilitators are required to attend this training.\n  \nPlease email Ingrid at ingriddiane@icloud.com to volunteer.
URL:https://lwvdetroit.org/event/citizendetroit-facilitator-training/
LOCATION:IBEW Local 58\, 1358 Abbott St.\, Detroit\, MI\, 48226\, United States
CATEGORIES:Volunteering,Voter Education
END:VEVENT
BEGIN:VEVENT
DTSTART;TZID=America/New_York:20260319T110000
DTEND;TZID=America/New_York:20260319T130000
DTSTAMP:20260419T092346
CREATED:20260305T163805Z
LAST-MODIFIED:20260305T163805Z
UID:13527-1773918000-1773925200@lwvdetroit.org
SUMMARY:Know What You Sign
DESCRIPTION:The League of Women Voters Detroit and the Detroit Retired School Personnel would like to present\, Know What You Sign\, a program to help educate voters. \n  \nKnow What You Sign Jan-Feb-2026
URL:https://lwvdetroit.org/event/kwys/
LOCATION:Westminster Presbyterian Church\, 17567 Hubbell Ave Suite 149\, Detroit\, 48235\, United States
CATEGORIES:Membership,Volunteering,Voting
END:VEVENT
BEGIN:VEVENT
DTSTART;TZID=America/Detroit:20260319T163000
DTEND;TZID=America/Detroit:20260319T210000
DTSTAMP:20260419T092346
CREATED:20260305T170706Z
LAST-MODIFIED:20260306T134812Z
UID:13533-1773937800-1773954000@lwvdetroit.org
SUMMARY:Detroit Women—Power\, Grit and Grace
DESCRIPTION:Join the League of Women Voters Detroit in partnership with Citizen Detroit for Dinner and Dialog scheduled on Thursday\, March 19th.  This Women’s History Month event will explore Detroit’s political\, social\, and cultural history through the stories and leadership of Detroit’s women. The Dinner and Dialogue event\, “Detroit Women—Power\, Grit and Grace\,” will feature a panel discussion followed by a fun\, non-competitive exercise/game created by CitizenDetroit:\n* Highlight Detroit women Trailblazers from the past and present; \n* Test your knowledge with Detroit Trivia questions; and \n* Spark discussions about systems-level challenges and tensions we face. \n  \nCitizenDetroit Flier
URL:https://lwvdetroit.org/event/citizendetroit/
LOCATION:IBEW Local 58\, 1358 Abbott St.\, Detroit\, MI\, 48226\, United States
CATEGORIES:Volunteering,Voter Education
END:VEVENT
BEGIN:VEVENT
DTSTART;TZID=America/New_York:20260321T100000
DTEND;TZID=America/New_York:20260321T113000
DTSTAMP:20260419T092346
CREATED:20260129T234449Z
LAST-MODIFIED:20260306T130008Z
UID:13459-1774087200-1774092600@lwvdetroit.org
SUMMARY:Mar Detroit League Meeting
DESCRIPTION:The League of Women Voters Detroit is meeting soon. \nJoin us at our Membership meeting on Zoom. \nJoin us live on Zoom: https://us02web.zoom.us/j/4377712506 \nREMEMBER: We do not meet in July\, August\, or December. \n  \nLWV Detroit March 2026 (1)
URL:https://lwvdetroit.org/event/meeting-march/
CATEGORIES:Membership,Volunteering,Voting
END:VEVENT
BEGIN:VEVENT
DTSTART;TZID=America/New_York:20260324T133000
DTEND;TZID=America/New_York:20260324T143000
DTSTAMP:20260419T092346
CREATED:20260306T125848Z
LAST-MODIFIED:20260306T125905Z
UID:13538-1774359000-1774362600@lwvdetroit.org
SUMMARY:Know What You Sign - Piast Institute
DESCRIPTION:The League of Women Voters Detroit and the Piast Institute\, a research institute in Hamtramck\, Michigan\, would like to present\, Know What You Sign\, a program to help educate voters. \n  \nLWV Detroit March 2026 (1) March.24th.KnowWhatYouSign!
URL:https://lwvdetroit.org/event/piast-institute/
LOCATION:PIAST INSTITUTE\, 11633 Joseph Campau St.\, Hamtramck\, 48212\, United States
CATEGORIES:Membership,Volunteering,Voting
END:VEVENT
END:VCALENDAR