BEGIN:VCALENDAR
VERSION:2.0
PRODID:-//LWV Detroit - ECPv6.15.16//NONSGML v1.0//EN
CALSCALE:GREGORIAN
METHOD:PUBLISH
X-ORIGINAL-URL:https://lwvdetroit.org
X-WR-CALDESC:Events for LWV Detroit
REFRESH-INTERVAL;VALUE=DURATION:PT1H
X-Robots-Tag:noindex
X-PUBLISHED-TTL:PT1H
BEGIN:VTIMEZONE
TZID:America/New_York
BEGIN:DAYLIGHT
TZOFFSETFROM:-0500
TZOFFSETTO:-0400
TZNAME:EDT
DTSTART:20250309T070000
END:DAYLIGHT
BEGIN:STANDARD
TZOFFSETFROM:-0400
TZOFFSETTO:-0500
TZNAME:EST
DTSTART:20251102T060000
END:STANDARD
BEGIN:DAYLIGHT
TZOFFSETFROM:-0500
TZOFFSETTO:-0400
TZNAME:EDT
DTSTART:20260308T070000
END:DAYLIGHT
BEGIN:STANDARD
TZOFFSETFROM:-0400
TZOFFSETTO:-0500
TZNAME:EST
DTSTART:20261101T060000
END:STANDARD
BEGIN:DAYLIGHT
TZOFFSETFROM:-0500
TZOFFSETTO:-0400
TZNAME:EDT
DTSTART:20270314T070000
END:DAYLIGHT
BEGIN:STANDARD
TZOFFSETFROM:-0400
TZOFFSETTO:-0500
TZNAME:EST
DTSTART:20271107T060000
END:STANDARD
END:VTIMEZONE
BEGIN:VEVENT
DTSTART;TZID=America/New_York:20260620T100000
DTEND;TZID=America/New_York:20260620T113000
DTSTAMP:20260419T130830
CREATED:20260129T235950Z
LAST-MODIFIED:20260129T235950Z
UID:13465-1781949600-1781955000@lwvdetroit.org
SUMMARY:Jun Detroit League Meeting
DESCRIPTION:The League of Women Voters Detroit is meeting soon. \nJoin us at our Membership meeting on Zoom. \nJoin us live on Zoom: https://us02web.zoom.us/j/4377712506 \nREMEMBER: We do not meet in July\, August\, or December.
URL:https://lwvdetroit.org/event/meeting-june/
CATEGORIES:Membership,Volunteering,Voting
END:VEVENT
END:VCALENDAR